Package: Summix Version: 2.6.0 Command: /Library/Frameworks/R.framework/Resources/bin/R CMD build --keep-empty-dirs --no-resave-data Summix StartedAt: 2023-10-15 21:45:44 -0400 (Sun, 15 Oct 2023) EndedAt: 2023-10-15 21:45:54 -0400 (Sun, 15 Oct 2023) EllapsedTime: 10.0 seconds RetCode: 0 Status: OK PackageFile: Summix_2.6.0.tar.gz PackageFileSize: 428.3 KiB