Package: Summix Version: 2.6.0 Command: /home/biocbuild/bbs-3.17-bioc/R/bin/R CMD INSTALL Summix StartedAt: 2023-10-15 15:32:39 -0400 (Sun, 15 Oct 2023) EndedAt: 2023-10-15 15:32:40 -0400 (Sun, 15 Oct 2023) EllapsedTime: 1.4 seconds RetCode: 0 Status: OK