Package: SwathXtend Version: 2.22.0 Command: /Library/Frameworks/R.framework/Resources/bin/R CMD check --install=check:SwathXtend.install-out.txt --library=/Library/Frameworks/R.framework/Resources/library --no-vignettes --timings SwathXtend_2.22.0.tar.gz StartedAt: 2023-10-16 07:50:09 -0400 (Mon, 16 Oct 2023) EndedAt: 2023-10-16 07:54:38 -0400 (Mon, 16 Oct 2023) EllapsedTime: 269.6 seconds RetCode: 0 Status: WARNINGS CheckDir: SwathXtend.Rcheck Warnings: 1