Package: SynMut Version: 1.16.0 Command: F:\biocbuild\bbs-3.17-bioc\R\bin\R.exe CMD INSTALL SynMut StartedAt: 2023-10-15 15:58:40 -0400 (Sun, 15 Oct 2023) EndedAt: 2023-10-15 15:58:58 -0400 (Sun, 15 Oct 2023) EllapsedTime: 18.3 seconds RetCode: 0 Status: OK