Package: TBSignatureProfiler Version: 1.12.0 Command: rm -rf TBSignatureProfiler.buildbin-libdir && mkdir TBSignatureProfiler.buildbin-libdir && /Users/biocbuild/BBS/utils/build-universal.sh TBSignatureProfiler_1.12.0.tar.gz /Library/Frameworks/R.framework/Resources/bin/R TBSignatureProfiler.buildbin-libdir StartedAt: 2023-10-16 10:20:24 -0400 (Mon, 16 Oct 2023) EndedAt: 2023-10-16 10:20:41 -0400 (Mon, 16 Oct 2023) EllapsedTime: 17.3 seconds RetCode: 0 Status: OK PackageFile: TBSignatureProfiler_1.12.0.tgz PackageFileSize: 4.541 MiB