Package: TBSignatureProfiler Version: 1.12.0 Command: /Library/Frameworks/R.framework/Resources/bin/R CMD build --keep-empty-dirs --no-resave-data TBSignatureProfiler StartedAt: 2023-10-15 21:49:54 -0400 (Sun, 15 Oct 2023) EndedAt: 2023-10-15 21:52:15 -0400 (Sun, 15 Oct 2023) EllapsedTime: 140.7 seconds RetCode: 0 Status: OK PackageFile: TBSignatureProfiler_1.12.0.tar.gz PackageFileSize: 4.021 MiB