Package: TCseq Version: 1.24.3 Command: /home/biocbuild/bbs-3.17-bioc/R/bin/R CMD build --keep-empty-dirs --no-resave-data TCseq StartedAt: 2023-10-15 18:46:57 -0400 (Sun, 15 Oct 2023) EndedAt: 2023-10-15 18:47:40 -0400 (Sun, 15 Oct 2023) EllapsedTime: 42.5 seconds RetCode: 0 Status: OK PackageFile: TCseq_1.24.3.tar.gz PackageFileSize: 1.023 MiB