Package: TCseq Version: 1.24.3 Command: /home/biocbuild/bbs-3.17-bioc/R/bin/R CMD INSTALL TCseq StartedAt: 2023-10-15 15:18:00 -0400 (Sun, 15 Oct 2023) EndedAt: 2023-10-15 15:18:27 -0400 (Sun, 15 Oct 2023) EllapsedTime: 26.9 seconds RetCode: 0 Status: OK