Package: TCseq Version: 1.24.3 Command: F:\biocbuild\bbs-3.17-bioc\R\bin\R.exe CMD check --no-multiarch --install=check:TCseq.install-out.txt --library=F:\biocbuild\bbs-3.17-bioc\R\library --no-vignettes --timings TCseq_1.24.3.tar.gz StartedAt: 2023-10-16 07:33:59 -0400 (Mon, 16 Oct 2023) EndedAt: 2023-10-16 07:37:23 -0400 (Mon, 16 Oct 2023) EllapsedTime: 204.0 seconds RetCode: 0 Status: WARNINGS CheckDir: TCseq.Rcheck Warnings: 2