Package: TFARM Version: 1.22.0 Command: chmod a+r TFARM -R && F:\biocbuild\bbs-3.17-bioc\R\bin\R.exe CMD build --keep-empty-dirs --no-resave-data TFARM StartedAt: 2023-10-15 22:49:37 -0400 (Sun, 15 Oct 2023) EndedAt: 2023-10-15 22:51:56 -0400 (Sun, 15 Oct 2023) EllapsedTime: 138.9 seconds RetCode: 0 Status: OK PackageFile: TFARM_1.22.0.tar.gz PackageFileSize: 472 KiB