Package: TFARM Version: 1.22.0 Command: F:\biocbuild\bbs-3.17-bioc\R\bin\R.exe CMD check --no-multiarch --install=check:TFARM.install-out.txt --library=F:\biocbuild\bbs-3.17-bioc\R\library --no-vignettes --timings TFARM_1.22.0.tar.gz StartedAt: 2023-10-16 07:36:12 -0400 (Mon, 16 Oct 2023) EndedAt: 2023-10-16 07:38:08 -0400 (Mon, 16 Oct 2023) EllapsedTime: 115.2 seconds RetCode: 0 Status: OK CheckDir: TFARM.Rcheck Warnings: 0