Package: TNBC.CMS Version: 1.16.0 Command: chmod a+r TNBC.CMS -R && F:\biocbuild\bbs-3.17-bioc\R\bin\R.exe CMD build --keep-empty-dirs --no-resave-data TNBC.CMS StartedAt: 2023-10-15 22:52:19 -0400 (Sun, 15 Oct 2023) EndedAt: 2023-10-15 22:53:23 -0400 (Sun, 15 Oct 2023) EllapsedTime: 64.0 seconds RetCode: 0 Status: OK PackageFile: TNBC.CMS_1.16.0.tar.gz PackageFileSize: 2.963 MiB