Package: TNBC.CMS Version: 1.16.0 Command: F:\biocbuild\bbs-3.17-bioc\R\bin\R.exe CMD check --no-multiarch --install=check:TNBC.CMS.install-out.txt --library=F:\biocbuild\bbs-3.17-bioc\R\library --no-vignettes --timings TNBC.CMS_1.16.0.tar.gz StartedAt: 2023-10-16 07:42:10 -0400 (Mon, 16 Oct 2023) EndedAt: 2023-10-16 07:46:08 -0400 (Mon, 16 Oct 2023) EllapsedTime: 237.8 seconds RetCode: 0 Status: OK CheckDir: TNBC.CMS.Rcheck Warnings: 0