Package: TNBC.CMS Version: 1.16.0 Command: F:\biocbuild\bbs-3.17-bioc\R\bin\R.exe CMD INSTALL TNBC.CMS StartedAt: 2023-10-15 16:57:10 -0400 (Sun, 15 Oct 2023) EndedAt: 2023-10-15 16:57:51 -0400 (Sun, 15 Oct 2023) EllapsedTime: 41.3 seconds RetCode: 0 Status: OK