Package: TOP Version: 1.0.0 Command: rm -rf TOP.buildbin-libdir && mkdir TOP.buildbin-libdir && F:\biocbuild\bbs-3.17-bioc\R\bin\R.exe CMD INSTALL --build --library=TOP.buildbin-libdir TOP_1.0.0.tar.gz StartedAt: 2023-10-16 09:39:52 -0400 (Mon, 16 Oct 2023) EndedAt: 2023-10-16 09:40:35 -0400 (Mon, 16 Oct 2023) EllapsedTime: 42.5 seconds RetCode: 0 Status: OK PackageFile: TOP_1.0.0.zip PackageFileSize: 399.9 KiB