Package: TSCAN Version: 1.38.0 Command: rm -rf TSCAN.buildbin-libdir && mkdir TSCAN.buildbin-libdir && /Users/biocbuild/BBS/utils/build-universal.sh TSCAN_1.38.0.tar.gz /Library/Frameworks/R.framework/Resources/bin/R TSCAN.buildbin-libdir StartedAt: 2023-10-16 10:23:17 -0400 (Mon, 16 Oct 2023) EndedAt: 2023-10-16 10:24:40 -0400 (Mon, 16 Oct 2023) EllapsedTime: 82.9 seconds RetCode: 0 Status: OK PackageFile: TSCAN_1.38.0.tgz PackageFileSize: 2.758 MiB