Package: TSCAN Version: 1.38.0 Command: chmod a+r TSCAN -R && F:\biocbuild\bbs-3.17-bioc\R\bin\R.exe CMD build --keep-empty-dirs --no-resave-data TSCAN StartedAt: 2023-10-15 22:57:28 -0400 (Sun, 15 Oct 2023) EndedAt: 2023-10-15 22:58:14 -0400 (Sun, 15 Oct 2023) EllapsedTime: 46.4 seconds RetCode: 0 Status: OK PackageFile: TSCAN_1.38.0.tar.gz PackageFileSize: 2.678 MiB