Package: TargetSearch Version: 2.2.0 Command: /home/biocbuild/bbs-3.17-bioc/R/bin/R CMD INSTALL TargetSearch StartedAt: 2023-10-15 15:10:29 -0400 (Sun, 15 Oct 2023) EndedAt: 2023-10-15 15:10:41 -0400 (Sun, 15 Oct 2023) EllapsedTime: 12.2 seconds RetCode: 0 Status: OK