Package: TrajectoryUtils Version: 1.8.0 Command: /Library/Frameworks/R.framework/Resources/bin/R CMD build --keep-empty-dirs --no-resave-data TrajectoryUtils StartedAt: 2023-10-15 21:56:50 -0400 (Sun, 15 Oct 2023) EndedAt: 2023-10-15 21:58:03 -0400 (Sun, 15 Oct 2023) EllapsedTime: 73.0 seconds RetCode: 0 Status: OK PackageFile: TrajectoryUtils_1.8.0.tar.gz PackageFileSize: 337.4 KiB