Package: TrajectoryUtils Version: 1.8.0 Command: /home/biocbuild/bbs-3.17-bioc/R/bin/R CMD build --keep-empty-dirs --no-resave-data TrajectoryUtils StartedAt: 2023-10-15 18:50:17 -0400 (Sun, 15 Oct 2023) EndedAt: 2023-10-15 18:50:48 -0400 (Sun, 15 Oct 2023) EllapsedTime: 30.9 seconds RetCode: 0 Status: OK PackageFile: TrajectoryUtils_1.8.0.tar.gz PackageFileSize: 334.8 KiB