Package: TransView Version: 1.44.0 Command: rm -rf TransView.buildbin-libdir && mkdir TransView.buildbin-libdir && F:\biocbuild\bbs-3.17-bioc\R\bin\R.exe CMD INSTALL --build --library=TransView.buildbin-libdir TransView_1.44.0.tar.gz StartedAt: 2023-10-16 09:40:26 -0400 (Mon, 16 Oct 2023) EndedAt: 2023-10-16 09:41:02 -0400 (Mon, 16 Oct 2023) EllapsedTime: 35.9 seconds RetCode: 0 Status: OK PackageFile: TransView_1.44.0.zip PackageFileSize: 5.622 MiB