Package: TransView Version: 1.44.0 Command: F:\biocbuild\bbs-3.17-bioc\R\bin\R.exe CMD INSTALL TransView StartedAt: 2023-10-15 15:59:52 -0400 (Sun, 15 Oct 2023) EndedAt: 2023-10-15 16:00:29 -0400 (Sun, 15 Oct 2023) EllapsedTime: 36.7 seconds RetCode: 0 Status: OK