Package: UniProt.ws Version: 2.40.1 Command: /Library/Frameworks/R.framework/Resources/bin/R CMD build --keep-empty-dirs --no-resave-data UniProt.ws StartedAt: 2023-10-15 22:02:11 -0400 (Sun, 15 Oct 2023) EndedAt: 2023-10-15 22:03:08 -0400 (Sun, 15 Oct 2023) EllapsedTime: 57.0 seconds RetCode: 0 Status: OK PackageFile: UniProt.ws_2.40.1.tar.gz PackageFileSize: 236 KiB