Package: UniProt.ws Version: 2.40.1 Command: /home/biocbuild/bbs-3.17-bioc/R/bin/R CMD check --install=check:UniProt.ws.install-out.txt --library=/home/biocbuild/bbs-3.17-bioc/R/site-library --timings UniProt.ws_2.40.1.tar.gz StartedAt: 2023-10-16 01:59:41 -0400 (Mon, 16 Oct 2023) EndedAt: 2023-10-16 02:02:05 -0400 (Mon, 16 Oct 2023) EllapsedTime: 143.5 seconds RetCode: 0 Status: OK CheckDir: UniProt.ws.Rcheck Warnings: 0