Package: UniProt.ws Version: 2.40.1 Command: rm -rf UniProt.ws.buildbin-libdir && mkdir UniProt.ws.buildbin-libdir && F:\biocbuild\bbs-3.17-bioc\R\bin\R.exe CMD INSTALL --build --library=UniProt.ws.buildbin-libdir UniProt.ws_2.40.1.tar.gz StartedAt: 2023-10-16 09:41:35 -0400 (Mon, 16 Oct 2023) EndedAt: 2023-10-16 09:41:58 -0400 (Mon, 16 Oct 2023) EllapsedTime: 23.1 seconds RetCode: 0 Status: OK PackageFile: UniProt.ws_2.40.1.zip PackageFileSize: 511.2 KiB