Package: UniProt.ws Version: 2.40.1 Command: F:\biocbuild\bbs-3.17-bioc\R\bin\R.exe CMD check --no-multiarch --install=check:UniProt.ws.install-out.txt --library=F:\biocbuild\bbs-3.17-bioc\R\library --no-vignettes --timings UniProt.ws_2.40.1.tar.gz StartedAt: 2023-10-16 07:55:17 -0400 (Mon, 16 Oct 2023) EndedAt: 2023-10-16 07:57:38 -0400 (Mon, 16 Oct 2023) EllapsedTime: 140.4 seconds RetCode: 0 Status: OK CheckDir: UniProt.ws.Rcheck Warnings: 0