Package: VDJdive Version: 1.2.0 Command: /home/biocbuild/bbs-3.17-bioc/R/bin/R CMD check --install=check:VDJdive.install-out.txt --library=/home/biocbuild/bbs-3.17-bioc/R/site-library --timings VDJdive_1.2.0.tar.gz StartedAt: 2023-10-16 02:02:27 -0400 (Mon, 16 Oct 2023) EndedAt: 2023-10-16 02:06:19 -0400 (Mon, 16 Oct 2023) EllapsedTime: 232.9 seconds RetCode: 0 Status: OK CheckDir: VDJdive.Rcheck Warnings: 0