Package: VERSO Version: 1.10.0 Command: rm -rf VERSO.buildbin-libdir && mkdir VERSO.buildbin-libdir && /Users/biocbuild/BBS/utils/build-universal.sh VERSO_1.10.0.tar.gz /Library/Frameworks/R.framework/Resources/bin/R VERSO.buildbin-libdir StartedAt: 2023-10-16 10:24:30 -0400 (Mon, 16 Oct 2023) EndedAt: 2023-10-16 10:24:41 -0400 (Mon, 16 Oct 2023) EllapsedTime: 10.8 seconds RetCode: 0 Status: OK PackageFile: VERSO_1.10.0.tgz PackageFileSize: 662.5 KiB