Package: VERSO Version: 1.10.0 Command: /Library/Frameworks/R.framework/Resources/bin/R CMD check --install=check:VERSO.install-out.txt --library=/Library/Frameworks/R.framework/Resources/library --no-vignettes --timings VERSO_1.10.0.tar.gz StartedAt: 2023-10-16 08:28:28 -0400 (Mon, 16 Oct 2023) EndedAt: 2023-10-16 08:29:32 -0400 (Mon, 16 Oct 2023) EllapsedTime: 64.8 seconds RetCode: 0 Status: OK CheckDir: VERSO.Rcheck Warnings: 0