Package: VariantTools Version: 1.42.0 Command: /Library/Frameworks/R.framework/Resources/bin/R CMD build --keep-empty-dirs --no-resave-data VariantTools StartedAt: 2023-10-15 22:03:35 -0400 (Sun, 15 Oct 2023) EndedAt: 2023-10-15 22:05:58 -0400 (Sun, 15 Oct 2023) EllapsedTime: 142.9 seconds RetCode: 0 Status: OK PackageFile: VariantTools_1.42.0.tar.gz PackageFileSize: 5.968 MiB