Package: VariantTools Version: 1.42.0 Command: /Library/Frameworks/R.framework/Resources/bin/R CMD check --install=check:VariantTools.install-out.txt --library=/Library/Frameworks/R.framework/Resources/library --no-vignettes --timings VariantTools_1.42.0.tar.gz StartedAt: 2023-10-16 08:26:47 -0400 (Mon, 16 Oct 2023) EndedAt: 2023-10-16 08:26:54 -0400 (Mon, 16 Oct 2023) EllapsedTime: 7.3 seconds RetCode: 1 Status: ERROR CheckDir: VariantTools.Rcheck Warnings: NA