Package: VariantTools Version: 1.42.0 Command: /Library/Frameworks/R.framework/Resources/bin/R CMD INSTALL VariantTools StartedAt: 2023-10-15 15:41:26 -0400 (Sun, 15 Oct 2023) EndedAt: 2023-10-15 15:43:36 -0400 (Sun, 15 Oct 2023) EllapsedTime: 129.5 seconds RetCode: 0 Status: OK