Package: VennDetail Version: 1.16.0 Command: /home/biocbuild/bbs-3.17-bioc/R/bin/R CMD check --install=check:VennDetail.install-out.txt --library=/home/biocbuild/bbs-3.17-bioc/R/site-library --timings VennDetail_1.16.0.tar.gz StartedAt: 2023-10-16 02:04:37 -0400 (Mon, 16 Oct 2023) EndedAt: 2023-10-16 02:05:18 -0400 (Mon, 16 Oct 2023) EllapsedTime: 41.6 seconds RetCode: 0 Status: OK CheckDir: VennDetail.Rcheck Warnings: 0