Package: VennDetail Version: 1.16.0 Command: /home/biocbuild/bbs-3.17-bioc/R/bin/R CMD INSTALL VennDetail StartedAt: 2023-10-15 15:15:55 -0400 (Sun, 15 Oct 2023) EndedAt: 2023-10-15 15:16:02 -0400 (Sun, 15 Oct 2023) EllapsedTime: 6.7 seconds RetCode: 0 Status: OK