Package: VennDetail Version: 1.16.0 Command: rm -rf VennDetail.buildbin-libdir && mkdir VennDetail.buildbin-libdir && F:\biocbuild\bbs-3.17-bioc\R\bin\R.exe CMD INSTALL --build --library=VennDetail.buildbin-libdir VennDetail_1.16.0.tar.gz StartedAt: 2023-10-16 09:42:22 -0400 (Mon, 16 Oct 2023) EndedAt: 2023-10-16 09:42:34 -0400 (Mon, 16 Oct 2023) EllapsedTime: 11.2 seconds RetCode: 0 Status: OK PackageFile: VennDetail_1.16.0.zip PackageFileSize: 315.5 KiB