Package: VennDetail Version: 1.16.0 Command: F:\biocbuild\bbs-3.17-bioc\R\bin\R.exe CMD check --no-multiarch --install=check:VennDetail.install-out.txt --library=F:\biocbuild\bbs-3.17-bioc\R\library --no-vignettes --timings VennDetail_1.16.0.tar.gz StartedAt: 2023-10-16 08:00:19 -0400 (Mon, 16 Oct 2023) EndedAt: 2023-10-16 08:01:04 -0400 (Mon, 16 Oct 2023) EllapsedTime: 44.8 seconds RetCode: 0 Status: OK CheckDir: VennDetail.Rcheck Warnings: 0