Package: VennDetail Version: 1.16.0 Command: F:\biocbuild\bbs-3.17-bioc\R\bin\R.exe CMD INSTALL VennDetail StartedAt: 2023-10-15 16:04:27 -0400 (Sun, 15 Oct 2023) EndedAt: 2023-10-15 16:04:39 -0400 (Sun, 15 Oct 2023) EllapsedTime: 12.2 seconds RetCode: 0 Status: OK