Package: YAPSA Version: 1.26.8 Command: /Library/Frameworks/R.framework/Resources/bin/R CMD build --keep-empty-dirs --no-resave-data YAPSA StartedAt: 2023-10-15 22:09:58 -0400 (Sun, 15 Oct 2023) EndedAt: 2023-10-15 22:15:49 -0400 (Sun, 15 Oct 2023) EllapsedTime: 351.7 seconds RetCode: 0 Status: OK PackageFile: YAPSA_1.26.8.tar.gz PackageFileSize: 4.064 MiB