Package: YAPSA Version: 1.26.8 Command: /Library/Frameworks/R.framework/Resources/bin/R CMD check --install=check:YAPSA.install-out.txt --library=/Library/Frameworks/R.framework/Resources/library --no-vignettes --timings YAPSA_1.26.8.tar.gz StartedAt: 2023-10-16 08:37:35 -0400 (Mon, 16 Oct 2023) EndedAt: 2023-10-16 08:49:31 -0400 (Mon, 16 Oct 2023) EllapsedTime: 715.7 seconds RetCode: 0 Status: OK CheckDir: YAPSA.Rcheck Warnings: 0