Package: YAPSA Version: 1.26.8 Command: /Library/Frameworks/R.framework/Resources/bin/R CMD INSTALL YAPSA StartedAt: 2023-10-15 15:55:59 -0400 (Sun, 15 Oct 2023) EndedAt: 2023-10-15 15:59:06 -0400 (Sun, 15 Oct 2023) EllapsedTime: 187.7 seconds RetCode: 0 Status: OK