Package: YAPSA Version: 1.26.8 Command: rm -rf YAPSA.buildbin-libdir && mkdir YAPSA.buildbin-libdir && F:\biocbuild\bbs-3.17-bioc\R\bin\R.exe CMD INSTALL --build --library=YAPSA.buildbin-libdir YAPSA_1.26.8.tar.gz StartedAt: 2023-10-16 09:43:29 -0400 (Mon, 16 Oct 2023) EndedAt: 2023-10-16 09:44:37 -0400 (Mon, 16 Oct 2023) EllapsedTime: 67.7 seconds RetCode: 0 Status: OK PackageFile: YAPSA_1.26.8.zip PackageFileSize: 3.172 MiB