Package: YAPSA Version: 1.26.8 Command: chmod a+r YAPSA -R && F:\biocbuild\bbs-3.17-bioc\R\bin\R.exe CMD build --keep-empty-dirs --no-resave-data YAPSA StartedAt: 2023-10-15 23:07:54 -0400 (Sun, 15 Oct 2023) EndedAt: 2023-10-15 23:11:51 -0400 (Sun, 15 Oct 2023) EllapsedTime: 236.1 seconds RetCode: 0 Status: OK PackageFile: YAPSA_1.26.8.tar.gz PackageFileSize: 2.77 MiB