Package: YAPSA Version: 1.26.8 Command: F:\biocbuild\bbs-3.17-bioc\R\bin\R.exe CMD check --no-multiarch --install=check:YAPSA.install-out.txt --library=F:\biocbuild\bbs-3.17-bioc\R\library --no-vignettes --timings YAPSA_1.26.8.tar.gz StartedAt: 2023-10-16 08:08:31 -0400 (Mon, 16 Oct 2023) EndedAt: 2023-10-16 08:16:24 -0400 (Mon, 16 Oct 2023) EllapsedTime: 473.8 seconds RetCode: 0 Status: OK CheckDir: YAPSA.Rcheck Warnings: 0