Package: a4Base Version: 1.48.0 Command: chmod a+r a4Base -R && F:\biocbuild\bbs-3.17-bioc\R\bin\R.exe CMD build --keep-empty-dirs --no-resave-data a4Base StartedAt: 2023-10-15 17:09:44 -0400 (Sun, 15 Oct 2023) EndedAt: 2023-10-15 17:09:47 -0400 (Sun, 15 Oct 2023) EllapsedTime: 3.2 seconds RetCode: 0 Status: OK PackageFile: a4Base_1.48.0.tar.gz PackageFileSize: 366.5 KiB