Package: aCGH Version: 1.78.0 Command: F:\biocbuild\bbs-3.17-bioc\R\bin\R.exe CMD check --no-multiarch --install=check:aCGH.install-out.txt --library=F:\biocbuild\bbs-3.17-bioc\R\library --no-vignettes --timings aCGH_1.78.0.tar.gz StartedAt: 2023-10-15 23:16:09 -0400 (Sun, 15 Oct 2023) EndedAt: 2023-10-15 23:18:26 -0400 (Sun, 15 Oct 2023) EllapsedTime: 137.2 seconds RetCode: 0 Status: OK CheckDir: aCGH.Rcheck Warnings: 0