Package: aCGH Version: 1.78.0 Command: F:\biocbuild\bbs-3.17-bioc\R\bin\R.exe CMD INSTALL aCGH StartedAt: 2023-10-15 16:42:56 -0400 (Sun, 15 Oct 2023) EndedAt: 2023-10-15 16:43:15 -0400 (Sun, 15 Oct 2023) EllapsedTime: 18.3 seconds RetCode: 0 Status: OK