Package: aggregateBioVar Version: 1.10.0 Command: /Library/Frameworks/R.framework/Resources/bin/R CMD check --install=check:aggregateBioVar.install-out.txt --library=/Library/Frameworks/R.framework/Resources/library --no-vignettes --timings aggregateBioVar_1.10.0.tar.gz StartedAt: 2023-10-15 22:22:08 -0400 (Sun, 15 Oct 2023) EndedAt: 2023-10-15 22:28:47 -0400 (Sun, 15 Oct 2023) EllapsedTime: 398.5 seconds RetCode: 0 Status: OK CheckDir: aggregateBioVar.Rcheck Warnings: 0