Package: alabaster.base Version: 1.0.0 Command: /Library/Frameworks/R.framework/Resources/bin/R CMD check --install=check:alabaster.base.install-out.txt --library=/Library/Frameworks/R.framework/Resources/library --no-vignettes --timings alabaster.base_1.0.0.tar.gz StartedAt: 2023-10-15 22:23:23 -0400 (Sun, 15 Oct 2023) EndedAt: 2023-10-15 22:26:16 -0400 (Sun, 15 Oct 2023) EllapsedTime: 173.8 seconds RetCode: 0 Status: WARNINGS CheckDir: alabaster.base.Rcheck Warnings: 1