Package: alabaster.spatial Version: 1.0.0 Command: /home/biocbuild/bbs-3.17-bioc/R/bin/R CMD build --keep-empty-dirs --no-resave-data alabaster.spatial StartedAt: 2023-10-15 15:54:06 -0400 (Sun, 15 Oct 2023) EndedAt: 2023-10-15 15:54:49 -0400 (Sun, 15 Oct 2023) EllapsedTime: 43.0 seconds RetCode: 0 Status: OK PackageFile: alabaster.spatial_1.0.0.tar.gz PackageFileSize: 627.1 KiB