Package: alabaster.spatial Version: 1.0.0 Command: /home/biocbuild/bbs-3.17-bioc/R/bin/R CMD check --install=check:alabaster.spatial.install-out.txt --library=/home/biocbuild/bbs-3.17-bioc/R/site-library --timings alabaster.spatial_1.0.0.tar.gz StartedAt: 2023-10-15 19:08:04 -0400 (Sun, 15 Oct 2023) EndedAt: 2023-10-15 19:11:44 -0400 (Sun, 15 Oct 2023) EllapsedTime: 220.1 seconds RetCode: 0 Status: OK CheckDir: alabaster.spatial.Rcheck Warnings: 0